BEGIN:VCALENDAR
VERSION:2.0
PRODID:-//Sparkassensaal Wiener Neustadt - ECPv6.15.20//NONSGML v1.0//EN
CALSCALE:GREGORIAN
METHOD:PUBLISH
X-ORIGINAL-URL:https://sparkassensaal.at
X-WR-CALDESC:Veranstaltungen für Sparkassensaal Wiener Neustadt
REFRESH-INTERVAL;VALUE=DURATION:PT1H
X-Robots-Tag:noindex
X-PUBLISHED-TTL:PT1H
BEGIN:VTIMEZONE
TZID:Europe/Vienna
BEGIN:DAYLIGHT
TZOFFSETFROM:+0100
TZOFFSETTO:+0200
TZNAME:CEST
DTSTART:20240331T010000
END:DAYLIGHT
BEGIN:STANDARD
TZOFFSETFROM:+0200
TZOFFSETTO:+0100
TZNAME:CET
DTSTART:20241027T010000
END:STANDARD
BEGIN:DAYLIGHT
TZOFFSETFROM:+0100
TZOFFSETTO:+0200
TZNAME:CEST
DTSTART:20250330T010000
END:DAYLIGHT
BEGIN:STANDARD
TZOFFSETFROM:+0200
TZOFFSETTO:+0100
TZNAME:CET
DTSTART:20251026T010000
END:STANDARD
BEGIN:DAYLIGHT
TZOFFSETFROM:+0100
TZOFFSETTO:+0200
TZNAME:CEST
DTSTART:20260329T010000
END:DAYLIGHT
BEGIN:STANDARD
TZOFFSETFROM:+0200
TZOFFSETTO:+0100
TZNAME:CET
DTSTART:20261025T010000
END:STANDARD
END:VTIMEZONE
BEGIN:VEVENT
DTSTART;VALUE=DATE:20250430
DTEND;VALUE=DATE:20250501
DTSTAMP:20260421T144158
CREATED:20250414T082633Z
LAST-MODIFIED:20250414T094610Z
UID:248-1745971200-1746057599@sparkassensaal.at
SUMMARY:Frühlingssoiree
DESCRIPTION:
URL:https://sparkassensaal.at/veranstaltung/2025-04-30-fruehlingssoiree/
LOCATION:Sparkassensaal Wiener Neustadt\, Neunkirchner Straße 21\, Wiener Neustadt\, Niederösterreich\, 2700\, Austria
ORGANIZER;CN="Wiener Neust%C3%A4dter Convent":MAILTO:office@fruehlingssoiree.at
END:VEVENT
END:VCALENDAR