BEGIN:VCALENDAR
VERSION:2.0
PRODID:-//Sparkassensaal Wiener Neustadt - ECPv6.15.20//NONSGML v1.0//EN
CALSCALE:GREGORIAN
METHOD:PUBLISH
X-WR-CALNAME:Sparkassensaal Wiener Neustadt
X-ORIGINAL-URL:https://sparkassensaal.at
X-WR-CALDESC:Veranstaltungen für Sparkassensaal Wiener Neustadt
REFRESH-INTERVAL;VALUE=DURATION:PT1H
X-Robots-Tag:noindex
X-PUBLISHED-TTL:PT1H
BEGIN:VTIMEZONE
TZID:Europe/Vienna
BEGIN:DAYLIGHT
TZOFFSETFROM:+0100
TZOFFSETTO:+0200
TZNAME:CEST
DTSTART:20250330T010000
END:DAYLIGHT
BEGIN:STANDARD
TZOFFSETFROM:+0200
TZOFFSETTO:+0100
TZNAME:CET
DTSTART:20251026T010000
END:STANDARD
BEGIN:DAYLIGHT
TZOFFSETFROM:+0100
TZOFFSETTO:+0200
TZNAME:CEST
DTSTART:20260329T010000
END:DAYLIGHT
BEGIN:STANDARD
TZOFFSETFROM:+0200
TZOFFSETTO:+0100
TZNAME:CET
DTSTART:20261025T010000
END:STANDARD
BEGIN:DAYLIGHT
TZOFFSETFROM:+0100
TZOFFSETTO:+0200
TZNAME:CEST
DTSTART:20270328T010000
END:DAYLIGHT
BEGIN:STANDARD
TZOFFSETFROM:+0200
TZOFFSETTO:+0100
TZNAME:CET
DTSTART:20271031T010000
END:STANDARD
END:VTIMEZONE
BEGIN:VEVENT
DTSTART;VALUE=DATE:20261121
DTEND;VALUE=DATE:20261122
DTSTAMP:20260420T031056
CREATED:20260129T100504Z
LAST-MODIFIED:20260129T102225Z
UID:1217-1795219200-1795305599@sparkassensaal.at
SUMMARY:Schulball HLW Wiener Neustadt
DESCRIPTION:
URL:https://sparkassensaal.at/veranstaltung/2026-11-27-schulball-hlw-wiener-neustadt/
LOCATION:Sparkassensaal Wiener Neustadt\, Neunkirchner Straße 21\, Wiener Neustadt\, Niederösterreich\, 2700\, Austria
END:VEVENT
END:VCALENDAR