BEGIN:VCALENDAR
VERSION:2.0
PRODID:-//Sparkassensaal Wiener Neustadt - ECPv6.15.20//NONSGML v1.0//EN
CALSCALE:GREGORIAN
METHOD:PUBLISH
X-WR-CALNAME:Sparkassensaal Wiener Neustadt
X-ORIGINAL-URL:https://sparkassensaal.at
X-WR-CALDESC:Veranstaltungen für Sparkassensaal Wiener Neustadt
REFRESH-INTERVAL;VALUE=DURATION:PT1H
X-Robots-Tag:noindex
X-PUBLISHED-TTL:PT1H
BEGIN:VTIMEZONE
TZID:Europe/Vienna
BEGIN:DAYLIGHT
TZOFFSETFROM:+0100
TZOFFSETTO:+0200
TZNAME:CEST
DTSTART:20240331T010000
END:DAYLIGHT
BEGIN:STANDARD
TZOFFSETFROM:+0200
TZOFFSETTO:+0100
TZNAME:CET
DTSTART:20241027T010000
END:STANDARD
BEGIN:DAYLIGHT
TZOFFSETFROM:+0100
TZOFFSETTO:+0200
TZNAME:CEST
DTSTART:20250330T010000
END:DAYLIGHT
BEGIN:STANDARD
TZOFFSETFROM:+0200
TZOFFSETTO:+0100
TZNAME:CET
DTSTART:20251026T010000
END:STANDARD
BEGIN:DAYLIGHT
TZOFFSETFROM:+0100
TZOFFSETTO:+0200
TZNAME:CEST
DTSTART:20260329T010000
END:DAYLIGHT
BEGIN:STANDARD
TZOFFSETFROM:+0200
TZOFFSETTO:+0100
TZNAME:CET
DTSTART:20261025T010000
END:STANDARD
END:VTIMEZONE
BEGIN:VEVENT
DTSTART;VALUE=DATE:20250510
DTEND;VALUE=DATE:20250511
DTSTAMP:20260421T045327
CREATED:20250414T083051Z
LAST-MODIFIED:20250414T094405Z
UID:260-1746835200-1746921599@sparkassensaal.at
SUMMARY:Hochzeit
DESCRIPTION:
URL:https://sparkassensaal.at/veranstaltung/2025-05-10-hochzeit/
LOCATION:Sparkassensaal Wiener Neustadt\, Neunkirchner Straße 21\, Wiener Neustadt\, Niederösterreich\, 2700\, Austria
END:VEVENT
BEGIN:VEVENT
DTSTART;VALUE=DATE:20250531
DTEND;VALUE=DATE:20250601
DTSTAMP:20260421T045327
CREATED:20250414T083716Z
LAST-MODIFIED:20250414T094248Z
UID:273-1748649600-1748735999@sparkassensaal.at
SUMMARY:Hochzeit
DESCRIPTION:
URL:https://sparkassensaal.at/veranstaltung/2025-05-31-hochzeit/
LOCATION:Sparkassensaal Wiener Neustadt\, Neunkirchner Straße 21\, Wiener Neustadt\, Niederösterreich\, 2700\, Austria
END:VEVENT
END:VCALENDAR