BEGIN:VCALENDAR
VERSION:2.0
PRODID:-//Sparkassensaal Wiener Neustadt - ECPv6.15.20//NONSGML v1.0//EN
CALSCALE:GREGORIAN
METHOD:PUBLISH
X-ORIGINAL-URL:https://sparkassensaal.at
X-WR-CALDESC:Veranstaltungen für Sparkassensaal Wiener Neustadt
REFRESH-INTERVAL;VALUE=DURATION:PT1H
X-Robots-Tag:noindex
X-PUBLISHED-TTL:PT1H
BEGIN:VTIMEZONE
TZID:Europe/Vienna
BEGIN:DAYLIGHT
TZOFFSETFROM:+0100
TZOFFSETTO:+0200
TZNAME:CEST
DTSTART:20240331T010000
END:DAYLIGHT
BEGIN:STANDARD
TZOFFSETFROM:+0200
TZOFFSETTO:+0100
TZNAME:CET
DTSTART:20241027T010000
END:STANDARD
BEGIN:DAYLIGHT
TZOFFSETFROM:+0100
TZOFFSETTO:+0200
TZNAME:CEST
DTSTART:20250330T010000
END:DAYLIGHT
BEGIN:STANDARD
TZOFFSETFROM:+0200
TZOFFSETTO:+0100
TZNAME:CET
DTSTART:20251026T010000
END:STANDARD
BEGIN:DAYLIGHT
TZOFFSETFROM:+0100
TZOFFSETTO:+0200
TZNAME:CEST
DTSTART:20260329T010000
END:DAYLIGHT
BEGIN:STANDARD
TZOFFSETFROM:+0200
TZOFFSETTO:+0100
TZNAME:CET
DTSTART:20261025T010000
END:STANDARD
END:VTIMEZONE
BEGIN:VEVENT
DTSTART;VALUE=DATE:20251024
DTEND;VALUE=DATE:20251025
DTSTAMP:20260420T134307
CREATED:20250414T100713Z
LAST-MODIFIED:20250908T071750Z
UID:345-1761264000-1761350399@sparkassensaal.at
SUMMARY:Highschoolparty
DESCRIPTION:sponsored by Wiener Neustädter Sparkasse – alle Infos auf: www.highschool-party.at
URL:https://sparkassensaal.at/veranstaltung/2025-10-24-highschoolparty/
LOCATION:Sparkassensaal Wiener Neustadt\, Neunkirchner Straße 21\, Wiener Neustadt\, Niederösterreich\, 2700\, Austria
END:VEVENT
BEGIN:VEVENT
DTSTART;VALUE=DATE:20251025
DTEND;VALUE=DATE:20251026
DTSTAMP:20260420T134307
CREATED:20250414T101004Z
LAST-MODIFIED:20250414T101004Z
UID:350-1761350400-1761436799@sparkassensaal.at
SUMMARY:Discofever
DESCRIPTION:Weitere Infos: www.facebook.com/discofeveraustia/\nTickets: www.delicious.events
URL:https://sparkassensaal.at/veranstaltung/2025-10-25-discofever/
LOCATION:Sparkassensaal Wiener Neustadt\, Neunkirchner Straße 21\, Wiener Neustadt\, Niederösterreich\, 2700\, Austria
END:VEVENT
END:VCALENDAR