BEGIN:VCALENDAR
VERSION:2.0
PRODID:-//Sparkassensaal Wiener Neustadt - ECPv6.15.20//NONSGML v1.0//EN
CALSCALE:GREGORIAN
METHOD:PUBLISH
X-ORIGINAL-URL:https://sparkassensaal.at
X-WR-CALDESC:Veranstaltungen für Sparkassensaal Wiener Neustadt
REFRESH-INTERVAL;VALUE=DURATION:PT1H
X-Robots-Tag:noindex
X-PUBLISHED-TTL:PT1H
BEGIN:VTIMEZONE
TZID:Europe/Vienna
BEGIN:DAYLIGHT
TZOFFSETFROM:+0100
TZOFFSETTO:+0200
TZNAME:CEST
DTSTART:20250330T010000
END:DAYLIGHT
BEGIN:STANDARD
TZOFFSETFROM:+0200
TZOFFSETTO:+0100
TZNAME:CET
DTSTART:20251026T010000
END:STANDARD
BEGIN:DAYLIGHT
TZOFFSETFROM:+0100
TZOFFSETTO:+0200
TZNAME:CEST
DTSTART:20260329T010000
END:DAYLIGHT
BEGIN:STANDARD
TZOFFSETFROM:+0200
TZOFFSETTO:+0100
TZNAME:CET
DTSTART:20261025T010000
END:STANDARD
BEGIN:DAYLIGHT
TZOFFSETFROM:+0100
TZOFFSETTO:+0200
TZNAME:CEST
DTSTART:20270328T010000
END:DAYLIGHT
BEGIN:STANDARD
TZOFFSETFROM:+0200
TZOFFSETTO:+0100
TZNAME:CET
DTSTART:20271031T010000
END:STANDARD
END:VTIMEZONE
BEGIN:VEVENT
DTSTART;VALUE=DATE:20260117
DTEND;VALUE=DATE:20260118
DTSTAMP:20260419T151657
CREATED:20251117T122726Z
LAST-MODIFIED:20251117T124010Z
UID:989-1768608000-1768694399@sparkassensaal.at
SUMMARY:Schulball BG Babenbergerring
DESCRIPTION:
URL:https://sparkassensaal.at/veranstaltung/2026-01-17-schulball-bg-babenbergerring/
LOCATION:Sparkassensaal Wiener Neustadt\, Neunkirchner Straße 21\, Wiener Neustadt\, Niederösterreich\, 2700\, Austria
END:VEVENT
BEGIN:VEVENT
DTSTART;VALUE=DATE:20260124
DTEND;VALUE=DATE:20260125
DTSTAMP:20260419T151657
CREATED:20251117T123533Z
LAST-MODIFIED:20251117T123953Z
UID:992-1769212800-1769299199@sparkassensaal.at
SUMMARY:Schulball HTL Wr. Neustadt
DESCRIPTION:
URL:https://sparkassensaal.at/veranstaltung/2026-01-24-schulball-htl-wiener-neustadt/
LOCATION:Sparkassensaal Wiener Neustadt\, Neunkirchner Straße 21\, Wiener Neustadt\, Niederösterreich\, 2700\, Austria
END:VEVENT
BEGIN:VEVENT
DTSTART;VALUE=DATE:20260130
DTEND;VALUE=DATE:20260131
DTSTAMP:20260419T151657
CREATED:20251117T123942Z
LAST-MODIFIED:20251117T123942Z
UID:997-1769731200-1769817599@sparkassensaal.at
SUMMARY:Schulball Tourismusschule Semmering
DESCRIPTION:
URL:https://sparkassensaal.at/veranstaltung/2026-01-30-schulball-tourismusschule-semmering/
LOCATION:Sparkassensaal Wiener Neustadt\, Neunkirchner Straße 21\, Wiener Neustadt\, Niederösterreich\, 2700\, Austria
END:VEVENT
END:VCALENDAR